BEGIN:VCALENDAR
VERSION:2.0
PRODID:-//TimberHP - ECPv6.15.20//NONSGML v1.0//EN
CALSCALE:GREGORIAN
METHOD:PUBLISH
X-ORIGINAL-URL:https://www.timberhp.com
X-WR-CALDESC:Events for TimberHP
REFRESH-INTERVAL;VALUE=DURATION:PT1H
X-Robots-Tag:noindex
X-PUBLISHED-TTL:PT1H
BEGIN:VTIMEZONE
TZID:America/New_York
BEGIN:DAYLIGHT
TZOFFSETFROM:-0500
TZOFFSETTO:-0400
TZNAME:EDT
DTSTART:20250309T070000
END:DAYLIGHT
BEGIN:STANDARD
TZOFFSETFROM:-0400
TZOFFSETTO:-0500
TZNAME:EST
DTSTART:20251102T060000
END:STANDARD
BEGIN:DAYLIGHT
TZOFFSETFROM:-0500
TZOFFSETTO:-0400
TZNAME:EDT
DTSTART:20260308T070000
END:DAYLIGHT
BEGIN:STANDARD
TZOFFSETFROM:-0400
TZOFFSETTO:-0500
TZNAME:EST
DTSTART:20261101T060000
END:STANDARD
BEGIN:DAYLIGHT
TZOFFSETFROM:-0500
TZOFFSETTO:-0400
TZNAME:EDT
DTSTART:20270314T070000
END:DAYLIGHT
BEGIN:STANDARD
TZOFFSETFROM:-0400
TZOFFSETTO:-0500
TZNAME:EST
DTSTART:20271107T060000
END:STANDARD
END:VTIMEZONE
BEGIN:VEVENT
DTSTART;VALUE=DATE:20260331
DTEND;VALUE=DATE:20260403
DTSTAMP:20260421T153600
CREATED:20251124T194609Z
LAST-MODIFIED:20260220T193926Z
UID:10000077-1774915200-1775174399@www.timberhp.com
SUMMARY:International Mass Timber Conference 2026
DESCRIPTION:Meet Us at the International Mass Timber Conference 2026! \nThe TimberHP team is excited to join the global mass timber community at the International Mass Timber Conference in Portland to talk about wood fiber insulation products\, assemblies\, and practical solutions that support low-carbon\, timber-forward buildings. If you’re planning to attend\, make sure to stop by and learn how wood fiber insulation can complement mass timber structures with high-performance envelopes\, healthy indoor air\, and resilient\, carbon-storing construction. \nVisit us to explore our full lineup of TimberBatt\, TimberFill\, and TimberBoard insulation solutions—all made in Maine\, Red List Free\, and optimized for energy-efficient\, vapor-open assemblies that pair seamlessly with CLT\, glulam\, and other engineered wood systems. Whether you’re working on multifamily\, commercial\, or institutional projects\, our team of experts will be on hand to discuss how wood fiber insulation fits into wall and roof assemblies\, supports advanced energy and carbon targets\, and meets jobsite needs with practical install guidance. \nLooking forward to connecting at the International Mass Timber Conference—the world’s largest gathering focused on the full mass timber supply chain\, from forests to finished buildings.
URL:https://www.timberhp.com/event/international-mass-timber-conference-2026
LOCATION:Oregon Convention Center\, Portland\, Oregon
CATEGORIES:In-Person
ATTACH;FMTTYPE=image/jpeg:https://www.timberhp.com/wp-content/uploads/2025/11/massTimber-01.jpg
END:VEVENT
END:VCALENDAR